BEGIN:VCALENDAR
VERSION:2.0
PRODID:-//RRV-Walldorf.de - ECPv6.15.20//NONSGML v1.0//EN
CALSCALE:GREGORIAN
METHOD:PUBLISH
X-ORIGINAL-URL:https://reit-und-rennverein-walldorf.de
X-WR-CALDESC:Veranstaltungen für RRV-Walldorf.de
REFRESH-INTERVAL;VALUE=DURATION:PT1H
X-Robots-Tag:noindex
X-PUBLISHED-TTL:PT1H
BEGIN:VTIMEZONE
TZID:UTC
BEGIN:STANDARD
TZOFFSETFROM:+0000
TZOFFSETTO:+0000
TZNAME:UTC
DTSTART:20230101T000000
END:STANDARD
END:VTIMEZONE
BEGIN:VEVENT
DTSTART;VALUE=DATE:20240826
DTEND;VALUE=DATE:20240831
DTSTAMP:20260425T195809
CREATED:20240715T180404Z
LAST-MODIFIED:20240715T180532Z
UID:495-1724630400-1725062399@reit-und-rennverein-walldorf.de
SUMMARY:Sommerferienkurs für Kinder und Jugendliche\, Anfänger bis Fortgeschrittene.
DESCRIPTION:Sommerferienkurs für Kinder und Jugendliche\, Anfänger bis Fortgeschrittene. \nTäglich von 9.00Uhr bis 15.00Uhr. \nIncl Verpflegung\n2x reiten täglich\, Theorie\, Spiel und Spaß..\nKursgebühr 295 Euro
URL:https://reit-und-rennverein-walldorf.de/event/sommerferienkurs-fuer-kinder-und-jugendliche-anfaenger-bis-fortgeschrittene-2/
LOCATION:Walldorf\, Am Rennplatz 1\, Walldorf\, BW\, 69190\, Deutschland
END:VEVENT
END:VCALENDAR