BEGIN:VCALENDAR
VERSION:2.0
PRODID:-//RRV-Walldorf.de - ECPv6.15.20//NONSGML v1.0//EN
CALSCALE:GREGORIAN
METHOD:PUBLISH
X-ORIGINAL-URL:https://reit-und-rennverein-walldorf.de
X-WR-CALDESC:Veranstaltungen für RRV-Walldorf.de
REFRESH-INTERVAL;VALUE=DURATION:PT1H
X-Robots-Tag:noindex
X-PUBLISHED-TTL:PT1H
BEGIN:VTIMEZONE
TZID:UTC
BEGIN:STANDARD
TZOFFSETFROM:+0000
TZOFFSETTO:+0000
TZNAME:UTC
DTSTART:20230101T000000
END:STANDARD
END:VTIMEZONE
BEGIN:VEVENT
DTSTART;VALUE=DATE:20241006
DTEND;VALUE=DATE:20241007
DTSTAMP:20260425T184325
CREATED:20240906T194939Z
LAST-MODIFIED:20240923T055138Z
UID:511-1728172800-1728259199@reit-und-rennverein-walldorf.de
SUMMARY:Breitensportliche Reitveranstaltung
DESCRIPTION:Veranstalter: Reit- und Rennverein Walldorf e.V.\nVeranstaltungsort: Reit- und Rennverein Walldorf e.V.\, 69190 Walldorf\,Am Rennplatz 1\nTermin: 06.10.2024\nNennschluss: 22.09.2024\nVeranstaltungsleitung: Susanne Hellmann\, Daniela Weinmann\nRichter: Robert Oswald\, Daniela Weinmann\nTeilnahmeberechtigung: Mitglieder der Vereine des Reiterrings Badische Pfalz sowie\nNichtvereinsmitglieder aus diesem Bereich\, sofern sie ausreichenden Versicherungsschutz\nnachweisen\, sowie 30 pers. geladene Teilnehmer\nNennung per Mail an: meldestelle@rrv-walldorf.de mit Nennformular WBO (Download unter\nwww.pferdesport-bw.de)\n\nStartgebühr bis spätestens Nennungsschluss zu überweisen an:\nReit- und Rennverein Walldorf \, IBAN: DE09 6725 0020 0057 7151 38 Sparkasse\nHeidelberg\nVerwendungszweck: Breitensportl. Veranstaltung 2024 + Name Teilnehmer\n\nVorläufige Zeiteinteilung\nSonntag\, 06.10.2024: WB 1 - 6\nDie abschließende Zeiteinteilung wird nach Nennschluss ausschließlich auf der Homepage\ndes RRV Walldorf e.V. veröffentlicht: www.reit-und-rennverein-walldorf.de\n\nBesondere Bestimmungen:\n- Turniertierarzt ist die Tierärztl. Praxis Dr. Ehrenfels & Dr. Nicol\, Hufschmied ist nicht\nvor Ort\n\n- Das Formular zur Einhufer-Blutarmut-Verordnung ist auszufüllen und mitzubringen.\n\n- Teilnehmer ohne Vereinsmitgliedschaft haben mit der Nennung unaufgefordert den\nAbschluss einer Tierhaftpflichtversicherung nachzuweisen\n\n- Pferde/Ponys dürfen 3-mal pro Tag an den Start gehen. Ein 4. und 5. Start ist nur in\nden WB 1\, 2 oder 3 möglich.\n\n- In den WB 1\, 2 und 3 sind pro Teilnehmer nur 1 Start\, in den anderen WB max. 2\nStarts zugelassen.\n\n- Ausrüstung von Pferd und Reiter sind gem. den aktuellen Bestimmungen der WBO\nvorgeschrieben. Keine gebisslosen Zäumungen und Kandaren.\n\n- Reithelm gem. DIN-Norm ist vorgeschrieben.\n\n- Der Equidenpass ist mitzuführen und auf Verlangen vorzulegen. Es besteht\nImpfpflicht für Influenza.\n\n- Das Abstellen von Fahrzeugen auf dem Gelände des Veranstaltungsorts erfolgt auf\neigene Gefahr jedes Teilnehmers.\n\n- Abreiten für die Wettbewerbe nur auf den ausgewiesenen Plätzen.\n\n- Der Veranstalter haftet nicht für Unfälle von Reitern\, Pferden oder Zuschauern\, für\nDiebstahl sowie Sachschäden\, die aus der Haltung eines Pferdes entstehen. Die\nTeilnahme\, der Besuch oder die Benutzung der Einrichtungen geschieht auf eigene\nGefahr. Alle Besitzer und Teilnehmer sind persönlich haftbar für Schäden gegenüber\nDritten\, die durch sie selbst\, ihre Angestellten\, ihre Beauftragten oder ihre Tiere\nverursacht werden.\n\n- Auf dem gesamten Gelände sind die Hunde an der Leine zu führen.\n\n- Die Siegerehrungen der kombinierten Wettbewerbe finden am Ende der\nVeranstaltung ohne Pferd statt. Siegerehrungen der einzelnen Reitwettbewerbe mit\nPferd.\n\n- DSVG: An der Veranstaltung werden Film- und Fotoaufnahmen angefertigt. Mit dem\nBetreten des Veranstaltungsgeländes erfolgt die Einwilligung der anwesenden\nPersonen zur unentgeltlichen Veröffentlichung und zwar ohne\, dass einer\nausdrücklichen Erklärung der betreffenden Personen bedarf. Sollte die betreffende\nPerson mit einer Veröffentlichung nicht einverstanden sein\, bitte wir um umgehende\nBenachrichtigung an der Meldestelle.\n\n- Es gelten die Bestimmungen der WBO\, die besonderen Bestimmungen der LK\nBaden-Württemberg und die besonderen Bestimmungen des Veranstalters.\n\n1. Führzügel - WB (E)\nPferde/Ponys: 5 Jahre und älter\nJunioren: 4 bis 10 Jahre\, die in keinem anderen WB dieser BV starten.\nFührer: mindestens 14 Jahre alt\, Helm und Handschuhe vorgeschrieben\nHilfszügel erlaubt\, Hilfsmittel (Gerte\, Sporen) nicht erlaubt\,\nAusr./Richtv. gem. WBO WB 221\nKostümierung erwünscht; Sonderpreis für das beste Kostüm\nEinsatz: 10.- EUR; SF: Abteilung nach Alter\n\n2. Reiterwettbewerb - Schritt - Trab (E)\nPferde/Ponys: 5 Jahre und älter\nJunioren: mindestens 6 Jahre\, max. 14 Jahre\, Altersangabe erforderlich;\nje Teilnehmer nur 1 Pferd; kein Start in WB 1\nAusbinde-/Dreieckszügel oder Martingal erlaubt\nAusr./Richtv. gem. WBO WB 227\nKostümierung erwünscht; Sonderpreis für das beste Kostüm\nEinsatz: 10.- EUR; SF: Abteilung nach Alter\n\n3. Reiterwettbewerb - Schritt - Trab – Galopp (E)\nPferde/Ponys: 5 Jahre und älter\nAlle Altersklassen: Jahrg.2010+ält.; Altersangabe erforderlich;\nje Teilnehmer nur 1 Pferd; kein Start in WB 1\nAusbinde-/Dreieckszügel oder Martingal erlaubt\nAusr./Richtv. gem. WBO WB 228\nEinsatz: 10.- EUR; SF: Abteilung nach Alter\n\n4. Dressur - WB (DW 4) (E)\nPferde/Ponys: 5 Jahre und älter; alle Altersklassen\, je Teilnehmer nur 1 Pferd;\nAusr./Richtv. gem. WBO WB 242/D; Dreiecks- oder Ausbindezügel erlaubt.\n(kein gleitendes Ringmartingal)\nAufg.: DW 4\, bei hohem Nennergebnis zu zweit hintereinander\nEinsatz: 11\,50 EUR; SF: G\n\n5. Jump & Run & Do (E)\nPferde/Ponys: 5 Jahre und älter; alle Altersklassen\, 3 Teilnehmer pro Team\nAusr./Richtv. gem. WBO WB 704\nZuerst überwindet der teilnehmende Reiter einen Hindernisparcours mit max. 70 cm\nund 7 Sprüngen.\nIm Anschluss muss der teilnehmende Läufer einen Parcours aus Hindernissen\, max.\n30 cm\, mit einem Shetlandpony an der Hand bewältigen.\nIm Anschluss muss der zweite teilnehmende Läufer einen Geschicklichkeitsparcours\nbewältigen.\nDie Fehler werden bei den jeweiligen Teilnehmern in Sekunden umgerechnet und zur\nbenötigten Zeit dazu gezählt.\nDas Team mit der niedrigsten Gesamtzeit und den meisten erledigten Aufgaben\ngewinnt.\nEinsatz: pro Team 15.- EUR; SF: Los\n\n6. Moderner 6-Kampf Team-Wettbewerb (E)\nPferde/Ponys: 5 Jahre und älter; alle Altersklassen\, 3 Teilnehmer pro Team\, ein\nTeam setzt sich zusammen aus je einem Reiter\, einem Schützen und einem\nDistanzreiter.\nTeamzusammensetzung wird ausgelost\nJe Team 6 Einsätze\nAusr./Richtv. gem. WBO WB 603\n1.Der Reiter Dressurreiter WB (angelehnt an WB 241/C\, Einzeln geritten).\n2.Der Distanzreiter absolviert einen Geschicklichkeitsritt auf der Rennbahn.\n3.Der Schütze absolviert eine Serie von 25 Schuss auf Scheiben im Schießstand.\n4.Der Schütze muss auf einer Dartscheibe 275 Punkte abwärts abwerfen.\n5.Der Reiter absolviert eine Serie von 10 Schuss auf Scheiben im Schießstand.\n6.Der Distanzreiter muss auf einer Dartscheibe 275 Punkte abwärts abwerfen.\nAuf Basis der Ergebnisse des jeweiligen Teilwettbewerbes gibt es ein Ranking nach\nPunkten.\nDie Punkte des jeweiligen Wettbewerbs werden zusammenaddiert.\nDas Team mit der höchsten Punktzahl gewinnt.\nEinsatz: pro Team 15.- EUR; SF: Los
URL:https://reit-und-rennverein-walldorf.de/event/breitensportliche-reitveranstaltung/
LOCATION:Walldorf\, Am Rennplatz 1\, Walldorf\, BW\, 69190\, Deutschland
END:VEVENT
END:VCALENDAR