BEGIN:VCALENDAR
VERSION:2.0
PRODID:-//RRV-Walldorf.de - ECPv6.15.20//NONSGML v1.0//EN
CALSCALE:GREGORIAN
METHOD:PUBLISH
X-WR-CALNAME:RRV-Walldorf.de
X-ORIGINAL-URL:https://reit-und-rennverein-walldorf.de
X-WR-CALDESC:Veranstaltungen für RRV-Walldorf.de
REFRESH-INTERVAL;VALUE=DURATION:PT1H
X-Robots-Tag:noindex
X-PUBLISHED-TTL:PT1H
BEGIN:VTIMEZONE
TZID:UTC
BEGIN:STANDARD
TZOFFSETFROM:+0000
TZOFFSETTO:+0000
TZNAME:UTC
DTSTART:20230101T000000
END:STANDARD
END:VTIMEZONE
BEGIN:VEVENT
DTSTART;TZID=UTC:20241206T080000
DTEND;TZID=UTC:20241208T170000
DTSTAMP:20260425T154424
CREATED:20241112T165942Z
LAST-MODIFIED:20241112T165942Z
UID:542-1733472000-1733677200@reit-und-rennverein-walldorf.de
SUMMARY:Theorie Seminar & Dressurlehrgang mit Wolfgang Egbers
DESCRIPTION:Wolfgang Egbers ist beim Reit- und Rennverein Walldorf zu Gast für einen Lehrgang. Er wird an diesem Wochenende erst einen Theorie-Abend und dann zwei Tage Intensivtraining für Dressurreiter von E bis Grand Prix anbieten. Wolfgang Egbers überzeugt mit seiner Fachkompetenz als Ausbilder und ist außerdem Richter bis zur Klasse S\, Vorstandsmitglied der FN Abteilung Sport und Vorsitzender der Fachgruppe Dressur beim Deutschen Reiter- und Fahrerverband (DRFV e.V.). \nAnmeldung gerne bei den Organisatoren des Reit- und Rennvereines Walldorf (susanne.hellmann@rrv-walldorf.de) . Alle interessierten Reiter\, ob Turnier- oder Freizeitreiter\, sind herzlich willkommen. Es geht darum neue Impulse oder Hilfestellungen zu bekommen. Geritten wird in Einzelunterricht 45 min. Vorab sollte das Pferd etwas Schritt geritten werden\, sodass wir gemeinsam mit der lösenden Arbeit beginnen können. Der Lehrgang kostet 280 € für zwei Tage. Der Theorieunterricht beinhaltet einen Vortrag über die Ausbildung von Pferden nach der klassischen deutschen Reitlehre und findet Freitagsabends von 18.00-20.30 Uhr statt und kostet 20.-€/pro Person. Er kann auch unabhängig vom Reittraining separat gebucht werden.
URL:https://reit-und-rennverein-walldorf.de/event/theorie-seminar-dressurlehrgang-mit-wolfgang-egbers/
LOCATION:Walldorf\, Am Rennplatz 1\, Walldorf\, BW\, 69190\, Deutschland
END:VEVENT
END:VCALENDAR